
BEGIN:VCALENDAR
VERSION:2.0
PRODID:-//Melanomföreningen - ECPv6.15.20//NONSGML v1.0//EN
CALSCALE:GREGORIAN
METHOD:PUBLISH
X-WR-CALNAME:Melanomföreningen
X-ORIGINAL-URL:https://melanomforeningen.se
X-WR-CALDESC:Händelser för Melanomföreningen
REFRESH-INTERVAL;VALUE=DURATION:PT1H
X-Robots-Tag:noindex
X-PUBLISHED-TTL:PT1H
BEGIN:VTIMEZONE
TZID:Europe/Stockholm
BEGIN:DAYLIGHT
TZOFFSETFROM:+0100
TZOFFSETTO:+0200
TZNAME:CEST
DTSTART:20250330T010000
END:DAYLIGHT
BEGIN:STANDARD
TZOFFSETFROM:+0200
TZOFFSETTO:+0100
TZNAME:CET
DTSTART:20251026T010000
END:STANDARD
BEGIN:DAYLIGHT
TZOFFSETFROM:+0100
TZOFFSETTO:+0200
TZNAME:CEST
DTSTART:20260329T010000
END:DAYLIGHT
BEGIN:STANDARD
TZOFFSETFROM:+0200
TZOFFSETTO:+0100
TZNAME:CET
DTSTART:20261025T010000
END:STANDARD
BEGIN:DAYLIGHT
TZOFFSETFROM:+0100
TZOFFSETTO:+0200
TZNAME:CEST
DTSTART:20270328T010000
END:DAYLIGHT
BEGIN:STANDARD
TZOFFSETFROM:+0200
TZOFFSETTO:+0100
TZNAME:CET
DTSTART:20271031T010000
END:STANDARD
END:VTIMEZONE
BEGIN:VEVENT
DTSTART;TZID=Europe/Stockholm:20260413T170000
DTEND;TZID=Europe/Stockholm:20260413T190000
DTSTAMP:20260424T115951
CREATED:20260317T123443Z
LAST-MODIFIED:20260317T123807Z
UID:8963-1776099600-1776106800@melanomforeningen.se
SUMMARY:Att vara närstående vid svår sjukdom – Kungsbacka 
DESCRIPTION:Mötesplats Gnistan – 1177
URL:https://melanomforeningen.se/event/att-vara-narstaende-vid-svar-sjukdom-kungsbacka/
CATEGORIES:Aktuella evenemang,För allmänheten
END:VEVENT
END:VCALENDAR